BEGIN:VCALENDAR
VERSION:2.0
PRODID:-//Enmarket Arena - ECPv6.15.11//NONSGML v1.0//EN
CALSCALE:GREGORIAN
METHOD:PUBLISH
X-WR-CALNAME:Enmarket Arena
X-ORIGINAL-URL:https://www.atlanticwastearena.com
X-WR-CALDESC:Events for Enmarket Arena
REFRESH-INTERVAL;VALUE=DURATION:PT1H
X-Robots-Tag:noindex
X-PUBLISHED-TTL:PT1H
BEGIN:VTIMEZONE
TZID:America/New_York
BEGIN:DAYLIGHT
TZOFFSETFROM:-0500
TZOFFSETTO:-0400
TZNAME:EDT
DTSTART:20210314T070000
END:DAYLIGHT
BEGIN:STANDARD
TZOFFSETFROM:-0400
TZOFFSETTO:-0500
TZNAME:EST
DTSTART:20211107T060000
END:STANDARD
BEGIN:DAYLIGHT
TZOFFSETFROM:-0500
TZOFFSETTO:-0400
TZNAME:EDT
DTSTART:20220313T070000
END:DAYLIGHT
BEGIN:STANDARD
TZOFFSETFROM:-0400
TZOFFSETTO:-0500
TZNAME:EST
DTSTART:20221106T060000
END:STANDARD
BEGIN:DAYLIGHT
TZOFFSETFROM:-0500
TZOFFSETTO:-0400
TZNAME:EDT
DTSTART:20230312T070000
END:DAYLIGHT
BEGIN:STANDARD
TZOFFSETFROM:-0400
TZOFFSETTO:-0500
TZNAME:EST
DTSTART:20231105T060000
END:STANDARD
BEGIN:DAYLIGHT
TZOFFSETFROM:-0500
TZOFFSETTO:-0400
TZNAME:EDT
DTSTART:20240310T070000
END:DAYLIGHT
BEGIN:STANDARD
TZOFFSETFROM:-0400
TZOFFSETTO:-0500
TZNAME:EST
DTSTART:20241103T060000
END:STANDARD
END:VTIMEZONE
BEGIN:VEVENT
DTSTART;TZID=America/New_York:20230204T190000
DTEND;TZID=America/New_York:20230204T190000
DTSTAMP:20260421T054048
CREATED:20220913T190726Z
LAST-MODIFIED:20230202T211308Z
UID:10000362-1675537200-1675537200@www.atlanticwastearena.com
SUMMARY:Ghost Pirates Gameday
DESCRIPTION:For information on booking the 13 Secrets VIP suite for this hockey game or any other events at Enmarket Arena please email sexler@enmarketarena.com \n  \n  \nSINGLE GAME TICKETS AVAILABLE SOON
URL:https://www.atlanticwastearena.com/event/ghost-pirates-gameday-19/
CATEGORIES:Sports
ATTACH;FMTTYPE=image/png:https://www.atlanticwastearena.com/wp-content/uploads/2022/09/Atlanta-Ghost-Pirates-Hockey-10801080.png
END:VEVENT
BEGIN:VEVENT
DTSTART;TZID=America/New_York:20230203T193000
DTEND;TZID=America/New_York:20230203T193000
DTSTAMP:20260421T054048
CREATED:20220913T173129Z
LAST-MODIFIED:20230202T205654Z
UID:10000361-1675452600-1675452600@www.atlanticwastearena.com
SUMMARY:Ghost Pirates Gameday
DESCRIPTION:
URL:https://www.atlanticwastearena.com/event/ghost-pirates-gameday-18/
CATEGORIES:Sports
ATTACH;FMTTYPE=image/png:https://www.atlanticwastearena.com/wp-content/uploads/2022/09/Orlando-Ghost-Pirates-Hockey-10801080.png
END:VEVENT
BEGIN:VEVENT
DTSTART;TZID=America/New_York:20230127T193000
DTEND;TZID=America/New_York:20230127T193000
DTSTAMP:20260421T054048
CREATED:20220913T172244Z
LAST-MODIFIED:20221111T201636Z
UID:10000360-1674847800-1674847800@www.atlanticwastearena.com
SUMMARY:Ghost Pirates Gameday
DESCRIPTION:Savannah VS Orlando \nFor information on booking the 13 Secrets VIP suite for this hockey game or any other events at Enmarket Arena please email sexler@enmarketarena.com \n  \n  \nSINGLE GAME TICKETS AVAILABLE SOON
URL:https://www.atlanticwastearena.com/event/ghost-pirates-gameday-17/
CATEGORIES:Sports
ATTACH;FMTTYPE=image/png:https://www.atlanticwastearena.com/wp-content/uploads/2022/09/Orlando-Ghost-Pirates-Hockey-10801080.png
END:VEVENT
BEGIN:VEVENT
DTSTART;TZID=America/New_York:20230114T173000
DTEND;TZID=America/New_York:20230114T220000
DTSTAMP:20260421T054048
CREATED:20221122T171354Z
LAST-MODIFIED:20221122T172644Z
UID:10000378-1673717400-1673733600@www.atlanticwastearena.com
SUMMARY:Enmarket Hockey Classic - Day 2
DESCRIPTION:DAY 2 SCHEDULE: \nFSU vs. Florida – 5:30pm\nGA Tech vs. UGA – 8:30pm \n\nThe Enmarket Savannah Hockey Classic is a collegiate hockey tournament that features four of the South’s most exciting hockey programs: University of Georgia\, University of Florida\, Georgia Tech and Florida State. \nThe very first “Rumble in the Rink” or Memorial Health Hockey Classic took place on January 8-9\, 1999 at the Savannah Civic Center. The four original teams included the University of Georgia\, University of Florida\, Georgia Tech\, and the University of Tennessee. Georgia Tech captured the first Thrasher Cup.
URL:https://www.atlanticwastearena.com/event/hockeyclassic-day2/
CATEGORIES:Sports
ATTACH;FMTTYPE=image/png:https://www.atlanticwastearena.com/wp-content/uploads/2022/11/HockeyClassic_InstagramGraphic-1080-×-1080-px.png
END:VEVENT
BEGIN:VEVENT
DTSTART;TZID=America/New_York:20230113T180000
DTEND;TZID=America/New_York:20230113T220000
DTSTAMP:20260421T054048
CREATED:20221122T170637Z
LAST-MODIFIED:20221122T172557Z
UID:10000215-1673632800-1673647200@www.atlanticwastearena.com
SUMMARY:Enmarket Hockey Classic - Day 1
DESCRIPTION:DAY 1 SCHEDULE: \nFSU vs. GA Tech – 6pm\nFlorida vs. UGA – 8:30pm \n\nThe Enmarket Savannah Hockey Classic is a collegiate hockey tournament that features four of the South’s most exciting hockey programs: University of Georgia\, University of Florida\, Georgia Tech and Florida State. \nThe very first “Rumble in the Rink” or Memorial Health Hockey Classic took place on January 8-9\, 1999 at the Savannah Civic Center. The four original teams included the University of Georgia\, University of Florida\, Georgia Tech\, and the University of Tennessee. Georgia Tech captured the first Thrasher Cup.
URL:https://www.atlanticwastearena.com/event/hockeyclassic-day1/
CATEGORIES:Sports
ATTACH;FMTTYPE=image/png:https://www.atlanticwastearena.com/wp-content/uploads/2022/11/HockeyClassic_InstagramGraphic-1080-×-1080-px.png
END:VEVENT
BEGIN:VEVENT
DTSTART;TZID=America/New_York:20230111T190000
DTEND;TZID=America/New_York:20230111T190000
DTSTAMP:20260421T054048
CREATED:20220913T172127Z
LAST-MODIFIED:20221201T165503Z
UID:10000359-1673463600-1673463600@www.atlanticwastearena.com
SUMMARY:Ghost Pirates Gameday
DESCRIPTION:
URL:https://www.atlanticwastearena.com/event/ghost-pirates-gameday-16/
CATEGORIES:Sports
ATTACH;FMTTYPE=image/png:https://www.atlanticwastearena.com/wp-content/uploads/2022/09/Greenville-Ghost-Pirates-Hockey-10801080.png
END:VEVENT
BEGIN:VEVENT
DTSTART;TZID=America/New_York:20230107T190000
DTEND;TZID=America/New_York:20230107T190000
DTSTAMP:20260421T054048
CREATED:20220913T171731Z
LAST-MODIFIED:20221201T165426Z
UID:10000348-1673118000-1673118000@www.atlanticwastearena.com
SUMMARY:Ghost Pirates Gameday
DESCRIPTION:
URL:https://www.atlanticwastearena.com/event/ghost-pirates-gameday-15/
CATEGORIES:Sports
ATTACH;FMTTYPE=image/png:https://www.atlanticwastearena.com/wp-content/uploads/2022/09/S.-Carolina-Ghost-Pirates-Hockey-10801080.png
END:VEVENT
BEGIN:VEVENT
DTSTART;TZID=America/New_York:20230105T190000
DTEND;TZID=America/New_York:20230105T190000
DTSTAMP:20260421T054048
CREATED:20220913T171612Z
LAST-MODIFIED:20221201T165359Z
UID:10000349-1672945200-1672945200@www.atlanticwastearena.com
SUMMARY:Ghost Pirates Gameday
DESCRIPTION:
URL:https://www.atlanticwastearena.com/event/ghost-pirates-gameday-14/
CATEGORIES:Sports
ATTACH;FMTTYPE=image/png:https://www.atlanticwastearena.com/wp-content/uploads/2022/09/Atlanta-Ghost-Pirates-Hockey-10801080.png
END:VEVENT
BEGIN:VEVENT
DTSTART;TZID=America/New_York:20221231T170000
DTEND;TZID=America/New_York:20221231T170000
DTSTAMP:20260421T054048
CREATED:20220913T170919Z
LAST-MODIFIED:20221201T165322Z
UID:10000350-1672506000-1672506000@www.atlanticwastearena.com
SUMMARY:Ghost Pirates Gameday
DESCRIPTION:
URL:https://www.atlanticwastearena.com/event/ghost-pirates-gameday-13/
CATEGORIES:Sports
ATTACH;FMTTYPE=image/png:https://www.atlanticwastearena.com/wp-content/uploads/2022/09/Jacksonville-Ghost-Pirates-Hockey-10801080.png
END:VEVENT
BEGIN:VEVENT
DTSTART;TZID=America/New_York:20221230T193000
DTEND;TZID=America/New_York:20221230T193000
DTSTAMP:20260421T054048
CREATED:20220913T170754Z
LAST-MODIFIED:20221201T165255Z
UID:10000351-1672428600-1672428600@www.atlanticwastearena.com
SUMMARY:Ghost Pirates Gameday
DESCRIPTION:
URL:https://www.atlanticwastearena.com/event/ghost-pirates-gameday-12/
CATEGORIES:Sports
ATTACH;FMTTYPE=image/png:https://www.atlanticwastearena.com/wp-content/uploads/2022/09/Greenville-Ghost-Pirates-Hockey-10801080.png
END:VEVENT
BEGIN:VEVENT
DTSTART;TZID=America/New_York:20221223T193000
DTEND;TZID=America/New_York:20221223T193000
DTSTAMP:20260421T054048
CREATED:20220913T170638Z
LAST-MODIFIED:20221201T165216Z
UID:10000352-1671823800-1671823800@www.atlanticwastearena.com
SUMMARY:Ghost Pirates Gameday
DESCRIPTION:For information on booking the 13 Secrets VIP suite for this hockey game or any other events at Enmarket Arena please email sexler@enmarketarena.com
URL:https://www.atlanticwastearena.com/event/ghost-pirates-gameday-11/
CATEGORIES:Sports
ATTACH;FMTTYPE=image/png:https://www.atlanticwastearena.com/wp-content/uploads/2022/09/Orlando-Ghost-Pirates-Hockey-10801080.png
END:VEVENT
BEGIN:VEVENT
DTSTART;TZID=America/New_York:20221222T190000
DTEND;TZID=America/New_York:20221222T190000
DTSTAMP:20260421T054048
CREATED:20220913T170538Z
LAST-MODIFIED:20221201T165146Z
UID:10000353-1671735600-1671735600@www.atlanticwastearena.com
SUMMARY:Ghost Pirates Gameday
DESCRIPTION:For information on booking the 13 Secrets VIP suite for this hockey game or any other events at Enmarket Arena please email sexler@enmarketarena.com
URL:https://www.atlanticwastearena.com/event/ghost-pirates-gameday-10/
CATEGORIES:Sports
ATTACH;FMTTYPE=image/png:https://www.atlanticwastearena.com/wp-content/uploads/2022/09/S.-Carolina-Ghost-Pirates-Hockey-10801080.png
END:VEVENT
BEGIN:VEVENT
DTSTART;TZID=America/New_York:20221211T150000
DTEND;TZID=America/New_York:20221211T150000
DTSTAMP:20260421T054048
CREATED:20220913T170442Z
LAST-MODIFIED:20221201T165117Z
UID:10000356-1670770800-1670770800@www.atlanticwastearena.com
SUMMARY:Ghost Pirates Gameday
DESCRIPTION:
URL:https://www.atlanticwastearena.com/event/ghost-pirates-gameday-9/
CATEGORIES:Sports
ATTACH;FMTTYPE=image/png:https://www.atlanticwastearena.com/wp-content/uploads/2022/09/Atlanta-Ghost-Pirates-Hockey-10801080.png
END:VEVENT
BEGIN:VEVENT
DTSTART;TZID=America/New_York:20221209T193000
DTEND;TZID=America/New_York:20221209T193000
DTSTAMP:20260421T054048
CREATED:20220913T170253Z
LAST-MODIFIED:20221201T165018Z
UID:10000357-1670614200-1670614200@www.atlanticwastearena.com
SUMMARY:Ghost Pirates Gameday
DESCRIPTION:Savannah VS Florida
URL:https://www.atlanticwastearena.com/event/ghost-pirates-gameday-8/
CATEGORIES:Sports
ATTACH;FMTTYPE=image/png:https://www.atlanticwastearena.com/wp-content/uploads/2022/09/Florida-Ghost-Pirates-Hockey-10801080.png
END:VEVENT
BEGIN:VEVENT
DTSTART;TZID=America/New_York:20221208T190000
DTEND;TZID=America/New_York:20221208T190000
DTSTAMP:20260421T054048
CREATED:20220913T170140Z
LAST-MODIFIED:20221111T200400Z
UID:10000358-1670526000-1670526000@www.atlanticwastearena.com
SUMMARY:Ghost Pirates Gameday
DESCRIPTION:For information on booking the 13 Secrets VIP suite for this hockey game or any other events at Enmarket Arena please email sexler@enmarketarena.com \n  \n  \nSINGLE GAME TICKETS AVAILABLE SOON
URL:https://www.atlanticwastearena.com/event/ghost-pirates-gameday-7/
CATEGORIES:Sports
ATTACH;FMTTYPE=image/png:https://www.atlanticwastearena.com/wp-content/uploads/2022/09/Florida-Ghost-Pirates-Hockey-10801080.png
END:VEVENT
BEGIN:VEVENT
DTSTART;TZID=America/New_York:20221202T193000
DTEND;TZID=America/New_York:20221202T193000
DTSTAMP:20260421T054048
CREATED:20220913T163546Z
LAST-MODIFIED:20221201T154840Z
UID:10000355-1670009400-1670009400@www.atlanticwastearena.com
SUMMARY:Ghost Pirates Gameday
DESCRIPTION:For information on booking the 13 Secrets VIP suite for this hockey game or any other events at Enmarket Arena please email sexler@enmarketarena.com
URL:https://www.atlanticwastearena.com/event/ghost-pirates-gameday-6/
CATEGORIES:Sports
ATTACH;FMTTYPE=image/png:https://www.atlanticwastearena.com/wp-content/uploads/2022/09/Orlando-Ghost-Pirates-Hockey-10801080.png
END:VEVENT
BEGIN:VEVENT
DTSTART;TZID=America/New_York:20221201T190000
DTEND;TZID=America/New_York:20221201T190000
DTSTAMP:20260421T054048
CREATED:20220913T163400Z
LAST-MODIFIED:20221201T154715Z
UID:10000354-1669921200-1669921200@www.atlanticwastearena.com
SUMMARY:Ghost Pirates Gameday
DESCRIPTION:For information on booking the 13 Secrets VIP suite for this hockey game or any other events at Enmarket Arena please email sexler@enmarketarena.com
URL:https://www.atlanticwastearena.com/event/ghost-pirates-gameday-5/
CATEGORIES:Sports
ATTACH;FMTTYPE=image/png:https://www.atlanticwastearena.com/wp-content/uploads/2022/09/S.-Carolina-Ghost-Pirates-Hockey-10801080.png
END:VEVENT
BEGIN:VEVENT
DTSTART;VALUE=DATE:20221127
DTEND;VALUE=DATE:20221128
DTSTAMP:20260421T054048
CREATED:20220919T140013Z
LAST-MODIFIED:20221121T164221Z
UID:10000370-1669507200-1669593599@www.atlanticwastearena.com
SUMMARY:Hostilo Hoops Community Classic Day 6
DESCRIPTION:The inaugural year of the annual Hostilo Hoops Community Classic is coming to the Enmarket arena this Thanksgiving! The Hostilo Hoops Community Classic is a Division 1 basketball tournament featuring schools from all over the country.  Tickets starting at just $15. Just one ticket gives you access to a whole day of games!
URL:https://www.atlanticwastearena.com/event/hostilo-hoops-community-classic-day-6/
CATEGORIES:HHCC,Sports
ATTACH;FMTTYPE=image/png:https://www.atlanticwastearena.com/wp-content/uploads/2022/09/Mens-Basketball-Tournament-Flyer-1080-×-1080-px.png
END:VEVENT
BEGIN:VEVENT
DTSTART;VALUE=DATE:20221126
DTEND;VALUE=DATE:20221127
DTSTAMP:20260421T054048
CREATED:20220919T140026Z
LAST-MODIFIED:20221121T164044Z
UID:10000371-1669420800-1669507199@www.atlanticwastearena.com
SUMMARY:Hostilo Hoops Community Classic Day 5
DESCRIPTION:The inaugural year of the annual Hostilo Hoops Community Classic is coming to the Enmarket arena this Thanksgiving! The Hostilo Hoops Community Classic is a Division 1 basketball tournament featuring schools from all over the country.  Tickets starting at just $15. Just one ticket gives you access to a whole day of games!
URL:https://www.atlanticwastearena.com/event/hostilo-hoops-community-classic-day-5/
CATEGORIES:HHCC,Sports
ATTACH;FMTTYPE=image/png:https://www.atlanticwastearena.com/wp-content/uploads/2022/09/Mens-Basketball-Tournament-Flyer-1080-×-1080-px.png
END:VEVENT
BEGIN:VEVENT
DTSTART;VALUE=DATE:20221125
DTEND;VALUE=DATE:20221126
DTSTAMP:20260421T054048
CREATED:20220919T140002Z
LAST-MODIFIED:20221121T163905Z
UID:10000369-1669334400-1669420799@www.atlanticwastearena.com
SUMMARY:Hostilo Hoops Community Classic Day 4
DESCRIPTION:The inaugural year of the annual Hostilo Hoops Community Classic is coming to the Enmarket arena this Thanksgiving! The Hostilo Hoops Community Classic is a Division 1 basketball tournament featuring schools from all over the country.  Tickets starting at just $15. Just one ticket gives you access to both games!
URL:https://www.atlanticwastearena.com/event/hostilo-hoops-community-classic-day-4/
CATEGORIES:HHCC,Sports
ATTACH;FMTTYPE=image/png:https://www.atlanticwastearena.com/wp-content/uploads/2022/09/Mens-Basketball-Tournament-Flyer-1080-×-1080-px.png
END:VEVENT
BEGIN:VEVENT
DTSTART;VALUE=DATE:20221123
DTEND;VALUE=DATE:20221124
DTSTAMP:20260421T054048
CREATED:20220919T140051Z
LAST-MODIFIED:20221121T163414Z
UID:10000374-1669161600-1669247999@www.atlanticwastearena.com
SUMMARY:Hostilo Hoops Community Classic Day 3
DESCRIPTION:The inaugural year of the annual Hostilo Hoops Community Classic is coming to the Enmarket arena this Thanksgiving! The Hostilo Hoops Community Classic is a Division 1 basketball tournament featuring schools from all over the country.  Tickets starting at just $15. Just one ticket gives you access to both games! \n  \nStudent and Kids- $15 \nGA Adult- $25 \nClub and Floor Seats- $40
URL:https://www.atlanticwastearena.com/event/hostilo-hoops-community-classic-day-3/
CATEGORIES:HHCC,Sports
ATTACH;FMTTYPE=image/png:https://www.atlanticwastearena.com/wp-content/uploads/2022/09/Womens-Basketball-Tournament-Flyer-1080-×-1080-px.png
END:VEVENT
BEGIN:VEVENT
DTSTART;VALUE=DATE:20221122
DTEND;VALUE=DATE:20221123
DTSTAMP:20260421T054048
CREATED:20220919T140039Z
LAST-MODIFIED:20221121T163306Z
UID:10000372-1669075200-1669161599@www.atlanticwastearena.com
SUMMARY:Hostilo Hoops Community Classic Day 2
DESCRIPTION:The inaugural year of the annual Hostilo Hoops Community Classic is coming to the Enmarket arena this Thanksgiving! The Hostilo Hoops Community Classic is a Division 1 basketball tournament featuring schools from all over the country.  Tickets starting at just $15. Just one ticket gives you access to both games! \n  \nStudent and Kids- $15 \nGA Adult- $25 \nClub and Floor Seats- $40
URL:https://www.atlanticwastearena.com/event/hostilo-hoops-community-classic-day-2/
CATEGORIES:HHCC,Sports
ATTACH;FMTTYPE=image/png:https://www.atlanticwastearena.com/wp-content/uploads/2022/09/Womens-Basketball-Tournament-Flyer-1080-×-1080-px.png
END:VEVENT
BEGIN:VEVENT
DTSTART;VALUE=DATE:20221121
DTEND;VALUE=DATE:20221122
DTSTAMP:20260421T054048
CREATED:20220919T140046Z
LAST-MODIFIED:20220929T170325Z
UID:10000373-1668988800-1669075199@www.atlanticwastearena.com
SUMMARY:Hostilo Hoops Community Classic Day 1
DESCRIPTION:The inaugural year of the annual Hostilo Hoops Community Classic is coming to the Enmarket arena this Thanksgiving! The Hostilo Hoops Community Classic is a Division 1 basketball tournament featuring schools from all over the country.  Tickets starting at just $15. Just one ticket gives you access to both games! \n  \nStudent and Kids- $15 \nGA Adult- $25 \nClub and Floor Seats- $40
URL:https://www.atlanticwastearena.com/event/hostilo-hoops-community-classic-day-1/
CATEGORIES:HHCC,Sports
ATTACH;FMTTYPE=image/png:https://www.atlanticwastearena.com/wp-content/uploads/2022/09/Womens-Basketball-Tournament-Flyer-1080-×-1080-px.png
END:VEVENT
BEGIN:VEVENT
DTSTART;TZID=America/New_York:20221119T190000
DTEND;TZID=America/New_York:20221119T190000
DTSTAMP:20260421T054048
CREATED:20220913T163239Z
LAST-MODIFIED:20221111T200126Z
UID:10000347-1668884400-1668884400@www.atlanticwastearena.com
SUMMARY:Ghost Pirates Gameday
DESCRIPTION:For information on booking the 13 Secrets VIP suite for this hockey game or any other events at Enmarket Arena please email sexler@enmarketarena.com
URL:https://www.atlanticwastearena.com/event/ghost-pirates-gameday-4/
CATEGORIES:Sports
ATTACH;FMTTYPE=image/png:https://www.atlanticwastearena.com/wp-content/uploads/2022/09/Jacksonville-Ghost-Pirates-Hockey-10801080.png
END:VEVENT
BEGIN:VEVENT
DTSTART;TZID=America/New_York:20221118T193000
DTEND;TZID=America/New_York:20221118T193000
DTSTAMP:20260421T054048
CREATED:20220913T163101Z
LAST-MODIFIED:20221111T195956Z
UID:10000346-1668799800-1668799800@www.atlanticwastearena.com
SUMMARY:Ghost Pirates Gameday
DESCRIPTION:Savannah VS Orlando \nFor information on booking the 13 Secrets VIP suite for this hockey game or any other events at Enmarket Arena please email sexler@enmarketarena.com \n  \n  \nSingle Day tickets available soon
URL:https://www.atlanticwastearena.com/event/ghost-pirates-gameday-3/
CATEGORIES:Sports
ATTACH;FMTTYPE=image/png:https://www.atlanticwastearena.com/wp-content/uploads/2022/09/Orlando-Ghost-Pirates-Hockey-10801080.png
END:VEVENT
BEGIN:VEVENT
DTSTART;TZID=America/New_York:20221111T193000
DTEND;TZID=America/New_York:20221111T220000
DTSTAMP:20260421T054048
CREATED:20220913T162858Z
LAST-MODIFIED:20221111T195858Z
UID:10000345-1668195000-1668204000@www.atlanticwastearena.com
SUMMARY:Ghost Pirates Gameday
DESCRIPTION:
URL:https://www.atlanticwastearena.com/event/ghost-pirates-gameday-2/
CATEGORIES:Sports
ATTACH;FMTTYPE=image/png:https://www.atlanticwastearena.com/wp-content/uploads/2022/09/S.-Carolina-Ghost-Pirates-Hockey-10801080.png
END:VEVENT
BEGIN:VEVENT
DTSTART;TZID=America/New_York:20221110T190000
DTEND;TZID=America/New_York:20221110T220000
DTSTAMP:20260421T054048
CREATED:20220913T155159Z
LAST-MODIFIED:20221101T201559Z
UID:10000344-1668106800-1668117600@www.atlanticwastearena.com
SUMMARY:Ghost Pirates Gameday
DESCRIPTION:For information on booking the 13 Secrets VIP suite for this hockey game or any other events at Enmarket Arena please email sexler@enmarketarena.com
URL:https://www.atlanticwastearena.com/event/ghost-pirates-gameday/
CATEGORIES:Sports
ATTACH;FMTTYPE=image/png:https://www.atlanticwastearena.com/wp-content/uploads/2022/09/Florida-Ghost-Pirates-Hockey-10801080.png
END:VEVENT
BEGIN:VEVENT
DTSTART;TZID=America/New_York:20221105T190000
DTEND;TZID=America/New_York:20221105T190000
DTSTAMP:20260421T054048
CREATED:20220913T153720Z
LAST-MODIFIED:20220915T143915Z
UID:10000343-1667674800-1667674800@www.atlanticwastearena.com
SUMMARY:Ghost Pirates Opening Night
DESCRIPTION:See your Savannah Ghost Pirates open their inaugural season against the Swamp Rabbits. \nFor information on booking the 13 Secrets VIP suite for this hockey game or any other events at Enmarket Arena please email sexler@enmarketarena.com
URL:https://www.atlanticwastearena.com/event/ghost-pirates-opening-night/
CATEGORIES:Sports
ATTACH;FMTTYPE=image/png:https://www.atlanticwastearena.com/wp-content/uploads/2022/09/Greenville-Ghost-Pirates-Hockey-10801080.png
END:VEVENT
BEGIN:VEVENT
DTSTART;TZID=America/New_York:20220913T150000
DTEND;TZID=America/New_York:20220913T150000
DTSTAMP:20260421T054048
CREATED:20220913T205415Z
LAST-MODIFIED:20220913T205431Z
UID:10000368-1663081200-1663081200@www.atlanticwastearena.com
SUMMARY:Ghost Pirates Gameday
DESCRIPTION:For information on booking the 13 Secrets VIP suite for this hockey game or any other events at Enmarket Arena please email sexler@enmarketarena.com \n  \n  \nSINGLE GAME TICKETS AVAILABLE SOON
URL:https://www.atlanticwastearena.com/event/ghost-pirates-gameday-34/
CATEGORIES:Sports
ATTACH;FMTTYPE=image/png:https://www.atlanticwastearena.com/wp-content/uploads/2022/09/Worcester-Ghost-Pirates-Hockey-10801080.png
END:VEVENT
BEGIN:VEVENT
DTSTART;TZID=America/New_York:20220713T190000
DTEND;TZID=America/New_York:20220713T190000
DTSTAMP:20260421T054048
CREATED:20220505T142438Z
LAST-MODIFIED:20220707T230515Z
UID:10000335-1657738800-1657738800@www.atlanticwastearena.com
SUMMARY:ALL ELITE WRESTLING
DESCRIPTION:All Elite Wrestling comes to Savannah for the FIRST TIME EVER! See all your favorite superstars including Jon Moxley\, Chris Jericho\, Jeff Hardy\, Thunder Rosa\, Adam Page and More!
URL:https://www.atlanticwastearena.com/event/all-elite-wrestling/
CATEGORIES:Group Events,Sports
ATTACH;FMTTYPE=image/jpeg:https://www.atlanticwastearena.com/wp-content/uploads/2022/01/AEW-Dynamite-Rampage-July-13-Savannah-Venue-1080x1080-1-1024x1024-1.jpg
END:VEVENT
END:VCALENDAR