BEGIN:VCALENDAR
VERSION:2.0
PRODID:-//Enmarket Arena - ECPv6.15.11//NONSGML v1.0//EN
CALSCALE:GREGORIAN
METHOD:PUBLISH
X-WR-CALNAME:Enmarket Arena
X-ORIGINAL-URL:https://www.atlanticwastearena.com
X-WR-CALDESC:Events for Enmarket Arena
REFRESH-INTERVAL;VALUE=DURATION:PT1H
X-Robots-Tag:noindex
X-PUBLISHED-TTL:PT1H
BEGIN:VTIMEZONE
TZID:America/New_York
BEGIN:DAYLIGHT
TZOFFSETFROM:-0500
TZOFFSETTO:-0400
TZNAME:EDT
DTSTART:20210314T070000
END:DAYLIGHT
BEGIN:STANDARD
TZOFFSETFROM:-0400
TZOFFSETTO:-0500
TZNAME:EST
DTSTART:20211107T060000
END:STANDARD
BEGIN:DAYLIGHT
TZOFFSETFROM:-0500
TZOFFSETTO:-0400
TZNAME:EDT
DTSTART:20220313T070000
END:DAYLIGHT
BEGIN:STANDARD
TZOFFSETFROM:-0400
TZOFFSETTO:-0500
TZNAME:EST
DTSTART:20221106T060000
END:STANDARD
BEGIN:DAYLIGHT
TZOFFSETFROM:-0500
TZOFFSETTO:-0400
TZNAME:EDT
DTSTART:20230312T070000
END:DAYLIGHT
BEGIN:STANDARD
TZOFFSETFROM:-0400
TZOFFSETTO:-0500
TZNAME:EST
DTSTART:20231105T060000
END:STANDARD
END:VTIMEZONE
BEGIN:VEVENT
DTSTART;TZID=America/New_York:20221118T193000
DTEND;TZID=America/New_York:20221118T193000
DTSTAMP:20260421T082118
CREATED:20220913T163101Z
LAST-MODIFIED:20221111T195956Z
UID:10000346-1668799800-1668799800@www.atlanticwastearena.com
SUMMARY:Ghost Pirates Gameday
DESCRIPTION:Savannah VS Orlando \nFor information on booking the 13 Secrets VIP suite for this hockey game or any other events at Enmarket Arena please email sexler@enmarketarena.com \n  \n  \nSingle Day tickets available soon
URL:https://www.atlanticwastearena.com/event/ghost-pirates-gameday-3/
CATEGORIES:Sports
ATTACH;FMTTYPE=image/png:https://www.atlanticwastearena.com/wp-content/uploads/2022/09/Orlando-Ghost-Pirates-Hockey-10801080.png
END:VEVENT
BEGIN:VEVENT
DTSTART;TZID=America/New_York:20221111T193000
DTEND;TZID=America/New_York:20221111T220000
DTSTAMP:20260421T082118
CREATED:20220913T162858Z
LAST-MODIFIED:20221111T195858Z
UID:10000345-1668195000-1668204000@www.atlanticwastearena.com
SUMMARY:Ghost Pirates Gameday
DESCRIPTION:
URL:https://www.atlanticwastearena.com/event/ghost-pirates-gameday-2/
CATEGORIES:Sports
ATTACH;FMTTYPE=image/png:https://www.atlanticwastearena.com/wp-content/uploads/2022/09/S.-Carolina-Ghost-Pirates-Hockey-10801080.png
END:VEVENT
BEGIN:VEVENT
DTSTART;TZID=America/New_York:20221110T190000
DTEND;TZID=America/New_York:20221110T220000
DTSTAMP:20260421T082118
CREATED:20220913T155159Z
LAST-MODIFIED:20221101T201559Z
UID:10000344-1668106800-1668117600@www.atlanticwastearena.com
SUMMARY:Ghost Pirates Gameday
DESCRIPTION:For information on booking the 13 Secrets VIP suite for this hockey game or any other events at Enmarket Arena please email sexler@enmarketarena.com
URL:https://www.atlanticwastearena.com/event/ghost-pirates-gameday/
CATEGORIES:Sports
ATTACH;FMTTYPE=image/png:https://www.atlanticwastearena.com/wp-content/uploads/2022/09/Florida-Ghost-Pirates-Hockey-10801080.png
END:VEVENT
BEGIN:VEVENT
DTSTART;TZID=America/New_York:20221105T190000
DTEND;TZID=America/New_York:20221105T190000
DTSTAMP:20260421T082118
CREATED:20220913T153720Z
LAST-MODIFIED:20220915T143915Z
UID:10000343-1667674800-1667674800@www.atlanticwastearena.com
SUMMARY:Ghost Pirates Opening Night
DESCRIPTION:See your Savannah Ghost Pirates open their inaugural season against the Swamp Rabbits. \nFor information on booking the 13 Secrets VIP suite for this hockey game or any other events at Enmarket Arena please email sexler@enmarketarena.com
URL:https://www.atlanticwastearena.com/event/ghost-pirates-opening-night/
CATEGORIES:Sports
ATTACH;FMTTYPE=image/png:https://www.atlanticwastearena.com/wp-content/uploads/2022/09/Greenville-Ghost-Pirates-Hockey-10801080.png
END:VEVENT
BEGIN:VEVENT
DTSTART;TZID=America/New_York:20220913T150000
DTEND;TZID=America/New_York:20220913T150000
DTSTAMP:20260421T082118
CREATED:20220913T205415Z
LAST-MODIFIED:20220913T205431Z
UID:10000368-1663081200-1663081200@www.atlanticwastearena.com
SUMMARY:Ghost Pirates Gameday
DESCRIPTION:For information on booking the 13 Secrets VIP suite for this hockey game or any other events at Enmarket Arena please email sexler@enmarketarena.com \n  \n  \nSINGLE GAME TICKETS AVAILABLE SOON
URL:https://www.atlanticwastearena.com/event/ghost-pirates-gameday-34/
CATEGORIES:Sports
ATTACH;FMTTYPE=image/png:https://www.atlanticwastearena.com/wp-content/uploads/2022/09/Worcester-Ghost-Pirates-Hockey-10801080.png
END:VEVENT
BEGIN:VEVENT
DTSTART;TZID=America/New_York:20220713T190000
DTEND;TZID=America/New_York:20220713T190000
DTSTAMP:20260421T082118
CREATED:20220505T142438Z
LAST-MODIFIED:20220707T230515Z
UID:10000335-1657738800-1657738800@www.atlanticwastearena.com
SUMMARY:ALL ELITE WRESTLING
DESCRIPTION:All Elite Wrestling comes to Savannah for the FIRST TIME EVER! See all your favorite superstars including Jon Moxley\, Chris Jericho\, Jeff Hardy\, Thunder Rosa\, Adam Page and More!
URL:https://www.atlanticwastearena.com/event/all-elite-wrestling/
CATEGORIES:Group Events,Sports
ATTACH;FMTTYPE=image/jpeg:https://www.atlanticwastearena.com/wp-content/uploads/2022/01/AEW-Dynamite-Rampage-July-13-Savannah-Venue-1080x1080-1-1024x1024-1.jpg
END:VEVENT
END:VCALENDAR